BEGIN:VCALENDAR
VERSION:2.0
PRODID:-//ChamberMaster//Event Calendar 2.0//EN
METHOD:PUBLISH
X-PUBLISHED-TTL:P3D
REFRESH-INTERVAL:P3D
CALSCALE:GREGORIAN
BEGIN:VEVENT
DTSTART;VALUE=DATE:20210123
DTEND;VALUE=DATE:20210124
TRANSP:TRANSPARENT
X-MICROSOFT-CDO-ALLDAYEVENT:TRUE
SUMMARY:1St Annual Food Drive
DESCRIPTION:1st Annual Food Drive October 24\, 10:00AM To 2 PM  Check below for item to bring.\n\nMilitary Heritage Museum\n\n900 W. Marion Ave. Punta Gorda
X-ALT-DESC;FMTTYPE=text/html:1st Annual Food Drive October 24\, 10:00AM To 2 PM&nbsp\; Check below for item to bring.<br />\nMilitary Heritage Museum<br />\n900 W. Marion Ave. Punta Gorda&nbsp\;
LOCATION:
UID:e.3611.1133
SEQUENCE:3
DTSTAMP:20260423T091715Z
URL:https://business.charlottecountychamber.org/events/details/1st-annual-food-drive-1133
END:VEVENT

END:VCALENDAR
