BEGIN:VCALENDAR
VERSION:2.0
PRODID:-//ChamberMaster//Event Calendar 2.0//EN
METHOD:PUBLISH
X-PUBLISHED-TTL:P3D
REFRESH-INTERVAL:P3D
CALSCALE:GREGORIAN
BEGIN:VEVENT
DTSTART;VALUE=DATE:19981003
DTEND;VALUE=DATE:19981004
TRANSP:TRANSPARENT
X-MICROSOFT-CDO-ALLDAYEVENT:TRUE
SUMMARY:73rd Annual Banquet Tickets
DESCRIPTION:
X-ALT-DESC;FMTTYPE=text/html:
LOCATION:CC Memorial Auditorium
UID:e.3611.12
SEQUENCE:3
DTSTAMP:20260422T213231Z
URL:https://business.charlottecountychamber.org/events/details/73rd-annual-banquet-tickets-10-03-1998-12
END:VEVENT

END:VCALENDAR
