BEGIN:VCALENDAR
VERSION:2.0
PRODID:-//ChamberMaster//Event Calendar 2.0//EN
METHOD:PUBLISH
X-PUBLISHED-TTL:P3D
REFRESH-INTERVAL:P3D
CALSCALE:GREGORIAN
BEGIN:VEVENT
DTSTART:19981003T040000Z
DTEND:19981003T040000Z
X-MICROSOFT-CDO-ALLDAYEVENT:FALSE
SUMMARY:73rd Annual Banquet Tickets
DESCRIPTION:73rd Annual Banquet Tickets
X-ALT-DESC;FMTTYPE=text/html:73rd Annual Banquet Tickets
LOCATION:CC Memorial Auditorium
UID:e.3611.242
SEQUENCE:3
DTSTAMP:20260422T213232Z
URL:https://business.charlottecountychamber.org/events/details/73rd-annual-banquet-tickets-10-03-1998-242
END:VEVENT

END:VCALENDAR
