BEGIN:VCALENDAR
VERSION:2.0
PRODID:-//ChamberMaster//Event Calendar 2.0//EN
METHOD:PUBLISH
X-PUBLISHED-TTL:P3D
REFRESH-INTERVAL:P3D
CALSCALE:GREGORIAN
BEGIN:VEVENT
DTSTART:20010817T040000Z
DTEND:20011009T040000Z
X-MICROSOFT-CDO-ALLDAYEVENT:FALSE
SUMMARY:76th Annual Banquet
DESCRIPTION:
X-ALT-DESC;FMTTYPE=text/html:
LOCATION:CC Memorial Auditorium
UID:e.3611.25
SEQUENCE:3
DTSTAMP:20260420T140500Z
URL:https://business.charlottecountychamber.org/events/details/76th-annual-banquet-08-17-2001-25
END:VEVENT

END:VCALENDAR
