BEGIN:VCALENDAR
VERSION:2.0
PRODID:-//ChamberMaster//Event Calendar 2.0//EN
METHOD:PUBLISH
X-PUBLISHED-TTL:P3D
REFRESH-INTERVAL:P3D
CALSCALE:GREGORIAN
BEGIN:VEVENT
DTSTART:20010306T050000Z
DTEND:20010504T040000Z
X-MICROSOFT-CDO-ALLDAYEVENT:FALSE
SUMMARY:A Passion for Service Cust. Svs. Seminar
DESCRIPTION:
X-ALT-DESC;FMTTYPE=text/html:
LOCATION:Best Western Waterfront
UID:e.3611.41
SEQUENCE:3
DTSTAMP:20260420T204723Z
URL:https://business.charlottecountychamber.org/events/details/a-passion-for-service-cust-svs-seminar-03-06-2001-41
END:VEVENT

END:VCALENDAR
