BEGIN:VCALENDAR
VERSION:2.0
PRODID:-//ChamberMaster//Event Calendar 2.0//EN
METHOD:PUBLISH
X-PUBLISHED-TTL:P3D
REFRESH-INTERVAL:P3D
CALSCALE:GREGORIAN
BEGIN:VEVENT
DTSTART:19970828T040000Z
DTEND:19970828T040000Z
X-MICROSOFT-CDO-ALLDAYEVENT:FALSE
SUMMARY:Attitude Motivation Workshop
DESCRIPTION:Attitude Motivation Workshop
X-ALT-DESC;FMTTYPE=text/html:Attitude Motivation Workshop
LOCATION:Edison Community College/Auditorium
UID:e.3611.236
SEQUENCE:3
DTSTAMP:20260423T202520Z
URL:https://business.charlottecountychamber.org/events/details/attitude-motivation-workshop-08-28-1997-236
END:VEVENT

END:VCALENDAR
