BEGIN:VCALENDAR
VERSION:2.0
PRODID:-//ChamberMaster//Event Calendar 2.0//EN
METHOD:PUBLISH
X-PUBLISHED-TTL:P3D
REFRESH-INTERVAL:P3D
CALSCALE:GREGORIAN
BEGIN:VEVENT
DTSTART;VALUE=DATE:19970828
DTEND;VALUE=DATE:19970829
TRANSP:TRANSPARENT
X-MICROSOFT-CDO-ALLDAYEVENT:TRUE
SUMMARY:Attitude Motivation Workshop
DESCRIPTION:
X-ALT-DESC;FMTTYPE=text/html:
LOCATION:Edison Community College/Auditorium
UID:e.3611.9
SEQUENCE:3
DTSTAMP:20260423T190014Z
URL:https://business.charlottecountychamber.org/events/details/attitude-motivation-workshop-08-28-1997-9
END:VEVENT

END:VCALENDAR
