BEGIN:VCALENDAR
VERSION:2.0
PRODID:-//ChamberMaster//Event Calendar 2.0//EN
METHOD:PUBLISH
X-PUBLISHED-TTL:P3D
REFRESH-INTERVAL:P3D
CALSCALE:GREGORIAN
BEGIN:VEVENT
DTSTART:20210605T123000Z
DTEND:20210605T190000Z
X-MICROSOFT-CDO-ALLDAYEVENT:FALSE
SUMMARY:Battle of the Best
DESCRIPTION:Golf scramble fundraiser for the Military Heritage Museum.
X-ALT-DESC;FMTTYPE=text/html:<span style="color:#0000FF\;"><strong>Golf scramble fundraiser for the Military Heritage Museum.</strong></span>
LOCATION:Paradise Golf Course 8135 SW Sunny Breeze Rd. Arcadia\, FL
UID:e.3611.1609
SEQUENCE:3
DTSTAMP:20260423T024527Z
URL:https://business.charlottecountychamber.org/events/details/battle-of-the-best-1609
END:VEVENT

END:VCALENDAR
