BEGIN:VCALENDAR
VERSION:2.0
PRODID:-//ChamberMaster//Event Calendar 2.0//EN
METHOD:PUBLISH
X-PUBLISHED-TTL:P3D
REFRESH-INTERVAL:P3D
CALSCALE:GREGORIAN
BEGIN:VEVENT
DTSTART:20210624T210000Z
DTEND:20210624T230000Z
X-MICROSOFT-CDO-ALLDAYEVENT:FALSE
SUMMARY:Business Card Exchange - Kays-Ponger & Uselton Funeral Homes and Cremation Services in Punta Gorda
DESCRIPTION:Business Card Exchange - Members networking on Thursday\, June 24\, 2021 atKays-Ponger & Uselton Funeral Homes and Cremation Services  365 E/  arpm Ave.\, Punta Gorda.  Join us from 5pm to 7pm to network with your fellow members\, make sure to bring plenty of Business Cards.  If you like\, bring a small gift for the gift exchange.
X-ALT-DESC;FMTTYPE=text/html:<strong><span style="color:mediumblue\;"><span style="font-family:calibri\,sans-serif\;">Business Card Exchange</span></span></strong> - Members networking on Thursday\, June 24\, 2021 at<span style="font-family:calibri\,sans-serif\;"><span style="font-size:11.0pt\;">Kays-Ponger &amp\; Uselton Funeral Homes and Cremation Services&nbsp\;</span></span><span style="background:white\;"> 365 E/ &lt\;arpm Ave.\, Punta Gorda. </span>&nbsp\;Join us from 5pm to 7pm to network with your fellow members\, make sure to bring plenty of Business Cards.&nbsp\; If you like\, bring a small gift for the gift exchange.<br />\n&nbsp\;
LOCATION:
UID:e.3611.1644
SEQUENCE:3
DTSTAMP:20260422T233634Z
URL:https://business.charlottecountychamber.org/events/details/business-card-exchange-kays-ponger-uselton-funeral-homes-and-cremation-services-in-punta-gorda-1644
END:VEVENT

END:VCALENDAR
