BEGIN:VCALENDAR
VERSION:2.0
PRODID:-//ChamberMaster//Event Calendar 2.0//EN
METHOD:PUBLISH
X-PUBLISHED-TTL:P3D
REFRESH-INTERVAL:P3D
CALSCALE:GREGORIAN
BEGIN:VEVENT
DTSTART:20180209T050000Z
DTEND:20190228T050000Z
X-MICROSOFT-CDO-ALLDAYEVENT:FALSE
SUMMARY:Business Expo February 7\, 2019@Charlotte Harbor Event Ctr
DESCRIPTION:
X-ALT-DESC;FMTTYPE=text/html:
LOCATION:Charlotte Harbor Event and Converence Center
UID:e.3611.60
SEQUENCE:3
DTSTAMP:20260426T031037Z
URL:https://business.charlottecountychamber.org/events/details/business-expo-february-7-2019-charlotte-harbor-event-ctr-02-09-2018-60
END:VEVENT

END:VCALENDAR
