BEGIN:VCALENDAR
VERSION:2.0
PRODID:-//ChamberMaster//Event Calendar 2.0//EN
METHOD:PUBLISH
X-PUBLISHED-TTL:P3D
REFRESH-INTERVAL:P3D
CALSCALE:GREGORIAN
BEGIN:VEVENT
DTSTART;VALUE=DATE:19970521
DTEND;VALUE=DATE:19970522
TRANSP:TRANSPARENT
X-MICROSOFT-CDO-ALLDAYEVENT:TRUE
SUMMARY:Business Expo May 21\, 1997
DESCRIPTION:
X-ALT-DESC;FMTTYPE=text/html:
LOCATION:Port Charlotte Cultural Centerl
UID:e.3611.4
SEQUENCE:3
DTSTAMP:20260423T231103Z
URL:https://business.charlottecountychamber.org/events/details/business-expo-may-21-1997-05-21-1997-4
END:VEVENT

END:VCALENDAR
