BEGIN:VCALENDAR
VERSION:2.0
PRODID:-//ChamberMaster//Event Calendar 2.0//EN
METHOD:PUBLISH
X-PUBLISHED-TTL:P3D
REFRESH-INTERVAL:P3D
CALSCALE:GREGORIAN
BEGIN:VEVENT
DTSTART;VALUE=DATE:19971206
DTEND;VALUE=DATE:19971207
TRANSP:TRANSPARENT
X-MICROSOFT-CDO-ALLDAYEVENT:TRUE
SUMMARY:Christmas Parade 12/97
DESCRIPTION:
X-ALT-DESC;FMTTYPE=text/html:
LOCATION:Punta Gorda
UID:e.3611.2
SEQUENCE:3
DTSTAMP:20260423T130033Z
URL:https://business.charlottecountychamber.org/events/details/christmas-parade-12-97-12-06-1997-2
END:VEVENT

END:VCALENDAR
