BEGIN:VCALENDAR
VERSION:2.0
PRODID:-//ChamberMaster//Event Calendar 2.0//EN
METHOD:PUBLISH
X-PUBLISHED-TTL:P3D
REFRESH-INTERVAL:P3D
CALSCALE:GREGORIAN
BEGIN:VEVENT
DTSTART:20001010T040000Z
DTEND:20001011T040000Z
X-MICROSOFT-CDO-ALLDAYEVENT:FALSE
SUMMARY:Coaching for Performance/Keryl Whetstone
DESCRIPTION:Coaching for Performance/Keryl Whetstone
X-ALT-DESC;FMTTYPE=text/html:Coaching for Performance/Keryl Whetstone
LOCATION:Edison Community College Auditorium
UID:e.3611.268
SEQUENCE:3
DTSTAMP:20260421T083755Z
URL:https://business.charlottecountychamber.org/events/details/coaching-for-performance-keryl-whetstone-10-10-2000-268
END:VEVENT

END:VCALENDAR
