BEGIN:VCALENDAR
VERSION:2.0
PRODID:-//ChamberMaster//Event Calendar 2.0//EN
METHOD:PUBLISH
X-PUBLISHED-TTL:P3D
REFRESH-INTERVAL:P3D
CALSCALE:GREGORIAN
BEGIN:VEVENT
DTSTART:20190401T210000Z
DTEND:20190930T210000Z
X-MICROSOFT-CDO-ALLDAYEVENT:FALSE
SUMMARY:Community Guide Ad 2020
DESCRIPTION:
X-ALT-DESC;FMTTYPE=text/html:
LOCATION:
UID:e.3611.48
SEQUENCE:3
DTSTAMP:20260425T112155Z
URL:https://business.charlottecountychamber.org/events/details/community-guide-ad-2020-04-01-2019-48
END:VEVENT

END:VCALENDAR
