BEGIN:VCALENDAR
VERSION:2.0
PRODID:-//ChamberMaster//Event Calendar 2.0//EN
METHOD:PUBLISH
X-PUBLISHED-TTL:P3D
REFRESH-INTERVAL:P3D
CALSCALE:GREGORIAN
BEGIN:VEVENT
DTSTART:20001130T050000Z
DTEND:20001205T050000Z
X-MICROSOFT-CDO-ALLDAYEVENT:FALSE
SUMMARY:Elimination Raffle Ticket Habitat for Humanity
DESCRIPTION:Elimination Raffle Ticket Habitat for Humanity
X-ALT-DESC;FMTTYPE=text/html:Elimination Raffle Ticket Habitat for Humanity
LOCATION:Fishermen's Village
UID:e.3611.269
SEQUENCE:3
DTSTAMP:20260421T050140Z
URL:https://business.charlottecountychamber.org/events/details/elimination-raffle-ticket-habitat-for-humanity-11-30-2000-269
END:VEVENT

END:VCALENDAR
