BEGIN:VCALENDAR
VERSION:2.0
PRODID:-//ChamberMaster//Event Calendar 2.0//EN
METHOD:PUBLISH
X-PUBLISHED-TTL:P3D
REFRESH-INTERVAL:P3D
CALSCALE:GREGORIAN
BEGIN:VEVENT
DTSTART:20201003T150000Z
DTEND:20201003T180000Z
X-MICROSOFT-CDO-ALLDAYEVENT:FALSE
SUMMARY:Elvis Gospel Show with Dwight Icenhower!
DESCRIPTION:Elvis Gospel Show with Dwight Icenhower!\nSat - Oct 3\, 2020 - 1:00pm EDT\n\n \n\n\nDwight Icenhower has performed all over the United States and recently finished tours in China and Japan. He has won a myriad of "Elvis Awards" too numerous to mention. He has shared the stage with personal friends of Elvis\, including DJ Fontana\, The Jordanaires\, The Sweet Inspirations\, Cynthia Pepper\, Julie Parrish\, Charlie Hodge and Joe Esposito.\n\nDwight Icenhower will be performing SOLO\, Elvis Gospel Favorites to a track.\n\nYour menu for this special event includes our House Salad Choice Of: 3 Entrees Coffee   Iced Tea   Soda Dessert Is Included! (Additional Premium Menu Options Will Also Be available)\n\n(Package Price Includes Show Ticket\, Dinner and Gratuity for Servers will be added at checkout)
X-ALT-DESC;FMTTYPE=text/html:<h3 id="event_175671" itemprop="name" style="box-sizing: border-box\; font-family: &quot\;Open Sans&quot\;\, Helvetica\, Arial\, Verdana\, sans-serif\; font-weight: bold\; line-height: 1.1\; color: rgb(59\, 59\, 59)\; margin: 0.4em 0.2em\; font-size: 16px\;">Elvis Gospel Show with Dwight Icenhower!</h3>\n<span class="bold padbot clear" style="box-sizing: border-box\; font-weight: 600\; clear: both\; padding-bottom: 10px\; color: rgb(59\, 59\, 59)\; font-family: Tahoma\, Geneva\, sans-serif\;"><time content="Sat - Oct  3\, 2020 - 1:00pm EDT" itemprop="startDate" style="box-sizing: border-box\;">Sat - Oct 3\, 2020 - 1:00pm EDT</time></span>\n\n<div class="page-right social clear" style="box-sizing: border-box\; clear: none\; float: right\; padding-bottom: 10px\; width: auto\; padding-right: 5px\; color: rgb(59\, 59\, 59)\; font-family: Tahoma\, Geneva\, sans-serif\;">&nbsp\;</div>\n\n<div class="event_display clear" itemprop="description" style="box-sizing: border-box\; clear: both\; color: rgb(59\, 59\, 59)\; font-family: Tahoma\, Geneva\, sans-serif\; min-height: 40px\;">\n<p style="box-sizing: border-box\; margin: 0px 0px 10px\;">Dwight Icenhower has performed all over the United States and recently finished tours in China and Japan. He has won a myriad of &ldquo\;Elvis Awards&rdquo\; too numerous to mention. He has shared the stage with personal friends of Elvis\, including DJ Fontana\, The Jordanaires\, The Sweet Inspirations\, Cynthia Pepper\, Julie Parrish\, Charlie Hodge and Joe Esposito.</p>\n\n<p style="box-sizing: border-box\; margin: 0px 0px 10px\;">Dwight Icenhower will be performing&nbsp\;<span class="caps" style="box-sizing: border-box\;">SOLO</span>\, Elvis Gospel Favorites to a track.</p>\n\n<p style="box-sizing: border-box\; margin: 0px 0px 10px\;">Your menu for this special event includes our House Salad Choice Of: 3 Entrees Coffee &ndash\; Iced Tea &ndash\; Soda Dessert Is Included! (Additional Premium Menu Options Will Also Be available)</p>\n\n<p style="box-sizing: border-box\; margin: 0px 0px 10px\;">(Package Price Includes Show Ticket\, Dinner and Gratuity for Servers will be added at checkout)</p>\n</div>\n
LOCATION:2400 Kings Highway\, Port Charlotte\, FL 33980
UID:e.3611.1128
SEQUENCE:3
DTSTAMP:20260423T233232Z
URL:https://business.charlottecountychamber.org/events/details/elvis-gospel-show-with-dwight-icenhower-1128
END:VEVENT

END:VCALENDAR
