BEGIN:VCALENDAR
VERSION:2.0
PRODID:-//ChamberMaster//Event Calendar 2.0//EN
METHOD:PUBLISH
X-PUBLISHED-TTL:P3D
REFRESH-INTERVAL:P3D
CALSCALE:GREGORIAN
BEGIN:VEVENT
DTSTART:20010207T050000Z
DTEND:20010208T050000Z
X-MICROSOFT-CDO-ALLDAYEVENT:FALSE
SUMMARY:Fraud & Personal Safety Seminar 3/6/2002
DESCRIPTION:Fraud & Personal Safety Seminar 3/6/2002
X-ALT-DESC;FMTTYPE=text/html:Fraud & Personal Safety Seminar 3/6/2002
LOCATION:Cultural Center of Charlotte County
UID:e.3611.297
SEQUENCE:3
DTSTAMP:20260421T014418Z
URL:https://business.charlottecountychamber.org/events/details/fraud-personal-safety-seminar-3-6-2002-02-07-2001-297
END:VEVENT

END:VCALENDAR
