BEGIN:VCALENDAR
VERSION:2.0
PRODID:-//ChamberMaster//Event Calendar 2.0//EN
METHOD:PUBLISH
X-PUBLISHED-TTL:P3D
REFRESH-INTERVAL:P3D
CALSCALE:GREGORIAN
BEGIN:VEVENT
DTSTART:19970605T040000Z
DTEND:19970605T040000Z
X-MICROSOFT-CDO-ALLDAYEVENT:FALSE
SUMMARY:Harborside Chat
DESCRIPTION:Harborside Chat
X-ALT-DESC;FMTTYPE=text/html:Harborside Chat
LOCATION:Pepin's on the Water
UID:e.3611.232
SEQUENCE:3
DTSTAMP:20260423T215058Z
URL:https://business.charlottecountychamber.org/events/details/harborside-chat-06-05-1997-232
END:VEVENT

END:VCALENDAR
