BEGIN:VCALENDAR
VERSION:2.0
PRODID:-//ChamberMaster//Event Calendar 2.0//EN
METHOD:PUBLISH
X-PUBLISHED-TTL:P3D
REFRESH-INTERVAL:P3D
CALSCALE:GREGORIAN
BEGIN:VEVENT
DTSTART:20001115T050000Z
DTEND:20011130T050000Z
X-MICROSOFT-CDO-ALLDAYEVENT:FALSE
SUMMARY:Holiday Expo
DESCRIPTION:Holiday Expo
X-ALT-DESC;FMTTYPE=text/html:Holiday Expo
LOCATION:Charlotte County Mem. Auditorium
UID:e.3611.293
SEQUENCE:3
DTSTAMP:20260420T104953Z
URL:https://business.charlottecountychamber.org/events/details/holiday-expo-11-15-2000-293
END:VEVENT

END:VCALENDAR
