BEGIN:VCALENDAR
VERSION:2.0
PRODID:-//ChamberMaster//Event Calendar 2.0//EN
METHOD:PUBLISH
X-PUBLISHED-TTL:P3D
REFRESH-INTERVAL:P3D
CALSCALE:GREGORIAN
BEGIN:VEVENT
DTSTART;VALUE=DATE:19970521
DTEND;VALUE=DATE:19970522
TRANSP:TRANSPARENT
X-MICROSOFT-CDO-ALLDAYEVENT:TRUE
SUMMARY:Holiday Expo 11/18/98
DESCRIPTION:
X-ALT-DESC;FMTTYPE=text/html:
LOCATION:Port Charlotte Cultural Center
UID:e.3611.13
SEQUENCE:3
DTSTAMP:20260423T231131Z
URL:https://business.charlottecountychamber.org/events/details/holiday-expo-11-18-98-05-21-1997-13
END:VEVENT

END:VCALENDAR
