BEGIN:VCALENDAR
VERSION:2.0
PRODID:-//ChamberMaster//Event Calendar 2.0//EN
METHOD:PUBLISH
X-PUBLISHED-TTL:P3D
REFRESH-INTERVAL:P3D
CALSCALE:GREGORIAN
BEGIN:VEVENT
DTSTART:19970521T040000Z
DTEND:19970521T040000Z
X-MICROSOFT-CDO-ALLDAYEVENT:FALSE
SUMMARY:Holiday Expo 11/18/98
DESCRIPTION:Holiday Expo 11/18/98
X-ALT-DESC;FMTTYPE=text/html:Holiday Expo 11/18/98
LOCATION:Port Charlotte Cultural Center
UID:e.3611.243
SEQUENCE:3
DTSTAMP:20260423T231216Z
URL:https://business.charlottecountychamber.org/events/details/holiday-expo-11-18-98-05-21-1997-243
END:VEVENT

END:VCALENDAR
