BEGIN:VCALENDAR
VERSION:2.0
PRODID:-//ChamberMaster//Event Calendar 2.0//EN
METHOD:PUBLISH
X-PUBLISHED-TTL:P3D
REFRESH-INTERVAL:P3D
CALSCALE:GREGORIAN
BEGIN:VEVENT
DTSTART:20000418T040000Z
DTEND:20000418T040000Z
X-MICROSOFT-CDO-ALLDAYEVENT:FALSE
SUMMARY:Junior Leadership Sponsors 2000
DESCRIPTION:
X-ALT-DESC;FMTTYPE=text/html:
LOCATION:Edison Community College
UID:e.3611.91
SEQUENCE:3
DTSTAMP:20260421T174506Z
URL:https://business.charlottecountychamber.org/events/details/junior-leadership-sponsors-2000-04-18-2000-91
END:VEVENT

END:VCALENDAR
