BEGIN:VCALENDAR
VERSION:2.0
PRODID:-//ChamberMaster//Event Calendar 2.0//EN
METHOD:PUBLISH
X-PUBLISHED-TTL:P3D
REFRESH-INTERVAL:P3D
CALSCALE:GREGORIAN
BEGIN:VEVENT
DTSTART:20000418T040000Z
DTEND:20000418T040000Z
X-MICROSOFT-CDO-ALLDAYEVENT:FALSE
SUMMARY:Junior Leadership Sponsors 2003
DESCRIPTION:Junior Leadership Sponsors 2003
X-ALT-DESC;FMTTYPE=text/html:Junior Leadership Sponsors 2003
LOCATION:
UID:e.3611.307
SEQUENCE:3
DTSTAMP:20260421T174516Z
URL:https://business.charlottecountychamber.org/events/details/junior-leadership-sponsors-2003-04-18-2000-307
END:VEVENT

END:VCALENDAR
