BEGIN:VCALENDAR
VERSION:2.0
PRODID:-//ChamberMaster//Event Calendar 2.0//EN
METHOD:PUBLISH
X-PUBLISHED-TTL:P3D
REFRESH-INTERVAL:P3D
CALSCALE:GREGORIAN
BEGIN:VEVENT
DTSTART:20220320T180000Z
DTEND:20220320T220000Z
X-MICROSOFT-CDO-ALLDAYEVENT:FALSE
SUMMARY:KCB Darts for a Cause!
DESCRIPTION:Come out and join us for this fun fundraiser to help KCB keep their programs like Environmental Education and Community Greening Mini Grants going!\n\n\n\nAll proceeds go directly to programs.\n\n\n\nWhat to know more about what we do in the community?\n\n\n\nCheck out our website at KeepCharlotteBeautiful.org\n\n\n\nQuestions about the tournament? Call 941-764-4390
X-ALT-DESC;FMTTYPE=text/html:Come out and join us for this fun fundraiser to help KCB keep their programs like Environmental Education and Community Greening Mini Grants going!<br />\n<br />\nAll proceeds go directly to programs.<br />\n<br />\nWhat to know more about what we do in the community?<br />\n<br />\nCheck out our website at KeepCharlotteBeautiful.org<br />\n<br />\nQuestions about the tournament? Call 941-764-4390
LOCATION:Ice House Pub 408 Tamiami Trail #111 Punta Gorda\, FL 33950
UID:e.3611.2650
SEQUENCE:3
DTSTAMP:20260421T013628Z
URL:https://business.charlottecountychamber.org/events/details/kcb-darts-for-a-cause-2650
END:VEVENT

END:VCALENDAR
