BEGIN:VCALENDAR
VERSION:2.0
PRODID:-//ChamberMaster//Event Calendar 2.0//EN
METHOD:PUBLISH
X-PUBLISHED-TTL:P3D
REFRESH-INTERVAL:P3D
CALSCALE:GREGORIAN
BEGIN:VEVENT
DTSTART:19980910T040000Z
DTEND:19990630T040000Z
X-MICROSOFT-CDO-ALLDAYEVENT:FALSE
SUMMARY:Lead Char Class 98-99 Tuition
DESCRIPTION:Lead Char Class 98-99 Tuition
X-ALT-DESC;FMTTYPE=text/html:Lead Char Class 98-99 Tuition
LOCATION:
UID:e.3611.240
SEQUENCE:3
DTSTAMP:20260422T093153Z
URL:https://business.charlottecountychamber.org/events/details/lead-char-class-98-99-tuition-09-10-1998-240
END:VEVENT

END:VCALENDAR
