BEGIN:VCALENDAR
VERSION:2.0
PRODID:-//ChamberMaster//Event Calendar 2.0//EN
METHOD:PUBLISH
X-PUBLISHED-TTL:P3D
REFRESH-INTERVAL:P3D
CALSCALE:GREGORIAN
BEGIN:VEVENT
DTSTART:20190524T220000Z
DTEND:20190630T220000Z
X-MICROSOFT-CDO-ALLDAYEVENT:FALSE
SUMMARY:Lead. Char. Graduation June 21\, 2019 @ Kingsway CC
DESCRIPTION:
X-ALT-DESC;FMTTYPE=text/html:
LOCATION:Kingsway Country Club13625 SW Kingsway Circle Lake Suzy\, FL
UID:e.3611.113
SEQUENCE:3
DTSTAMP:20260425T164619Z
URL:https://business.charlottecountychamber.org/events/details/lead-char-graduation-june-21-2019-kingsway-cc-05-24-2019-113
END:VEVENT

END:VCALENDAR
