BEGIN:VCALENDAR
VERSION:2.0
PRODID:-//ChamberMaster//Event Calendar 2.0//EN
METHOD:PUBLISH
X-PUBLISHED-TTL:P3D
REFRESH-INTERVAL:P3D
CALSCALE:GREGORIAN
BEGIN:VEVENT
DTSTART:20190701T153000Z
DTEND:20190831T170000Z
X-MICROSOFT-CDO-ALLDAYEVENT:FALSE
SUMMARY:Lead Char Hall of Fame Luncheon 08/23/19 @ Char Harbor Yacht Club
DESCRIPTION:
X-ALT-DESC;FMTTYPE=text/html:
LOCATION:Charlotte Harbor Yacht Club4400 Lister St. Port Charlotte\, FL 339529761
UID:e.3611.122
SEQUENCE:3
DTSTAMP:20260425T113033Z
URL:https://business.charlottecountychamber.org/events/details/lead-char-hall-of-fame-luncheon-08-23-19-char-harbor-yacht-club-07-01-2019-122
END:VEVENT

END:VCALENDAR
