BEGIN:VCALENDAR
VERSION:2.0
PRODID:-//ChamberMaster//Event Calendar 2.0//EN
METHOD:PUBLISH
X-PUBLISHED-TTL:P3D
REFRESH-INTERVAL:P3D
CALSCALE:GREGORIAN
BEGIN:VEVENT
DTSTART:20180901T040000Z
DTEND:20190731T040000Z
X-MICROSOFT-CDO-ALLDAYEVENT:FALSE
SUMMARY:Leadership Charlotte 2018-19 Sponsor
DESCRIPTION:Leadership Charlotte 2018-19 Sponsor
X-ALT-DESC;FMTTYPE=text/html:Leadership Charlotte 2018-19 Sponsor
LOCATION:Varries
UID:e.3611.833
SEQUENCE:3
DTSTAMP:20260425T164323Z
URL:https://business.charlottecountychamber.org/events/details/leadership-charlotte-2018-19-sponsor-09-01-2018-833
END:VEVENT

END:VCALENDAR
