BEGIN:VCALENDAR
VERSION:2.0
PRODID:-//ChamberMaster//Event Calendar 2.0//EN
METHOD:PUBLISH
X-PUBLISHED-TTL:P3D
REFRESH-INTERVAL:P3D
CALSCALE:GREGORIAN
BEGIN:VEVENT
DTSTART:20010615T040000Z
DTEND:20010618T040000Z
X-MICROSOFT-CDO-ALLDAYEVENT:FALSE
SUMMARY:Leadership Charlotte Graduation
DESCRIPTION:Leadership Charlotte Graduation
X-ALT-DESC;FMTTYPE=text/html:Leadership Charlotte Graduation
LOCATION:Kingsway Country Club
UID:e.3611.303
SEQUENCE:3
DTSTAMP:20260420T185713Z
URL:https://business.charlottecountychamber.org/events/details/leadership-charlotte-graduation-06-15-2001-303
END:VEVENT

END:VCALENDAR
