BEGIN:VCALENDAR
VERSION:2.0
PRODID:-//ChamberMaster//Event Calendar 2.0//EN
METHOD:PUBLISH
X-PUBLISHED-TTL:P3D
REFRESH-INTERVAL:P3D
CALSCALE:GREGORIAN
BEGIN:VEVENT
DTSTART;VALUE=DATE:19970613
DTEND;VALUE=DATE:19970614
TRANSP:TRANSPARENT
X-MICROSOFT-CDO-ALLDAYEVENT:TRUE
SUMMARY:Leadership Charlotte Graduation 1997 Class
DESCRIPTION:
X-ALT-DESC;FMTTYPE=text/html:
LOCATION:Kingsway Country Club
UID:e.3611.6
SEQUENCE:3
DTSTAMP:20260423T215201Z
URL:https://business.charlottecountychamber.org/events/details/leadership-charlotte-graduation-1997-class-06-13-1997-6
END:VEVENT

END:VCALENDAR
