BEGIN:VCALENDAR
VERSION:2.0
PRODID:-//ChamberMaster//Event Calendar 2.0//EN
METHOD:PUBLISH
X-PUBLISHED-TTL:P3D
REFRESH-INTERVAL:P3D
CALSCALE:GREGORIAN
BEGIN:VEVENT
DTSTART:20000901T040000Z
DTEND:20010731T040000Z
X-MICROSOFT-CDO-ALLDAYEVENT:FALSE
SUMMARY:Leadership Charlotte Sponsor 2000-2001
DESCRIPTION:
X-ALT-DESC;FMTTYPE=text/html:
LOCATION:
UID:e.3611.137
SEQUENCE:3
DTSTAMP:20260420T171904Z
URL:https://business.charlottecountychamber.org/events/details/leadership-charlotte-sponsor-2000-2001-09-01-2000-137
END:VEVENT

END:VCALENDAR
