BEGIN:VCALENDAR
VERSION:2.0
PRODID:-//ChamberMaster//Event Calendar 2.0//EN
METHOD:PUBLISH
X-PUBLISHED-TTL:P3D
REFRESH-INTERVAL:P3D
CALSCALE:GREGORIAN
BEGIN:VEVENT
DTSTART:20011001T040000Z
DTEND:20020930T040000Z
X-MICROSOFT-CDO-ALLDAYEVENT:FALSE
SUMMARY:Leadership Charlotte Sponsor 2002
DESCRIPTION:Leadership Charlotte Sponsor 2002
X-ALT-DESC;FMTTYPE=text/html:Leadership Charlotte Sponsor 2002
LOCATION:
UID:e.3611.295
SEQUENCE:3
DTSTAMP:20260419T184141Z
URL:https://business.charlottecountychamber.org/events/details/leadership-charlotte-sponsor-2002-10-01-2001-295
END:VEVENT

END:VCALENDAR
