BEGIN:VCALENDAR
VERSION:2.0
PRODID:-//ChamberMaster//Event Calendar 2.0//EN
METHOD:PUBLISH
X-PUBLISHED-TTL:P3D
REFRESH-INTERVAL:P3D
CALSCALE:GREGORIAN
BEGIN:VEVENT
DTSTART:19000101T050000Z
DTEND:19990727T040000Z
X-MICROSOFT-CDO-ALLDAYEVENT:FALSE
SUMMARY:Living Safely Seminar
DESCRIPTION:Living Safely Seminar
X-ALT-DESC;FMTTYPE=text/html:Living Safely Seminar
LOCATION:Edisom Community College/Auditorium
UID:e.3611.250
SEQUENCE:3
DTSTAMP:20260422T091800Z
URL:https://business.charlottecountychamber.org/events/details/living-safely-seminar-01-01-1900-250
END:VEVENT

END:VCALENDAR
