BEGIN:VCALENDAR
VERSION:2.0
PRODID:-//ChamberMaster//Event Calendar 2.0//EN
METHOD:PUBLISH
X-PUBLISHED-TTL:P3D
REFRESH-INTERVAL:P3D
CALSCALE:GREGORIAN
BEGIN:VEVENT
DTSTART:20210125T210000Z
DTEND:20210126T010000Z
X-MICROSOFT-CDO-ALLDAYEVENT:FALSE
SUMMARY:Loveland Center fundraiser at Chipotle North Port
DESCRIPTION:Do Good with  Burritos! Come support Loveland Center\, a local non-profit dedicated to supporting individuals with intellectual and developmental disabilities\, while enjoying some delicious food at Chipotle in North Port.  33% of proceeds from sales on January 25th between 4PM and 8PM will be donated to Loveland Center - just make sure to show the attached flyer for your meal to be counted!
X-ALT-DESC;FMTTYPE=text/html:Do Good with&nbsp\; Burritos! Come support Loveland Center\, a local non-profit dedicated to supporting individuals with intellectual and developmental disabilities\, while enjoying some delicious food at Chipotle in North Port.&nbsp\; 33% of proceeds from sales on January 25th between 4PM and 8PM will be donated to Loveland Center - just make sure to show the attached flyer for your meal to be counted!
LOCATION:Chipotle North Port : 17019 Tamiami Trl\, North Port\, FL 34287-7298
UID:e.3611.1588
SEQUENCE:3
DTSTAMP:20260423T073211Z
URL:https://business.charlottecountychamber.org/events/details/loveland-center-fundraiser-at-chipotle-north-port-1588
END:VEVENT

END:VCALENDAR
