BEGIN:VCALENDAR
VERSION:2.0
PRODID:-//ChamberMaster//Event Calendar 2.0//EN
METHOD:PUBLISH
X-PUBLISHED-TTL:P3D
REFRESH-INTERVAL:P3D
CALSCALE:GREGORIAN
BEGIN:VEVENT
DTSTART:20190117T050000Z
DTEND:20190228T050000Z
X-MICROSOFT-CDO-ALLDAYEVENT:FALSE
SUMMARY:Lunch at the Expo on February 7\, 2019 at the Event Center
DESCRIPTION:
X-ALT-DESC;FMTTYPE=text/html:
LOCATION:Charlotte Harbor Event & Conference Center75 Taylor St. Punta Gorda\, FL 33950
UID:e.3611.66
SEQUENCE:3
DTSTAMP:20260426T031221Z
URL:https://business.charlottecountychamber.org/events/details/lunch-at-the-expo-on-february-7-2019-at-the-event-center-01-17-2019-66
END:VEVENT

END:VCALENDAR
