BEGIN:VCALENDAR
VERSION:2.0
PRODID:-//ChamberMaster//Event Calendar 2.0//EN
METHOD:PUBLISH
X-PUBLISHED-TTL:P3D
REFRESH-INTERVAL:P3D
CALSCALE:GREGORIAN
BEGIN:VEVENT
DTSTART:20201013T210000Z
DTEND:20201014T003000Z
X-MICROSOFT-CDO-ALLDAYEVENT:FALSE
SUMMARY:Mike Imbasciani & His BluezRockerz at Visani
DESCRIPTION:Mike Imbasciani & His BluezRockerz\nTue - Oct 13\, 2020 - 7:30pm EDT\n\n \n\n\nComplete Dinner And Show Package Showtime 7:30 PM | Doors Open At 5:00 PM\n\nYour menu for this special event includes our House Salad\n\nChoice Of: 3 Entrees\n\nCoffee   Iced Tea   Soda\n\nAnd Dessert!\n\n(Additional Premium Menu Options Will Also Be available)\n\n(Package Price Includes Show Ticket\, Dinner and Server Gratuity will be added at checkout)\n\nMike Imbasciani is a 23 year old with an old soul who performs blues and blues-based rock\, folk and rockabilly.\n\nHe is a guitar prodigy who began playing guitar at age five and at age eleven\, was playing professionally in venues throughout SWFL. Included among the multiple venues where Mike has performed are BB King's Blues Club in Nashville and Orlando as well as House Of Blues in Orlando. He has also performed in multiple SWFL festivals from Clearwater to Naples since he was thirteen years old. The recent honor of receiving the 2019 SWFL Blues Society Regional International Blues Challenge "People's Choice Award" speaks to the huge\, loyal fan base that Mike has amassed over his years of performing and connecting on a personal level with his fans. Mike has a gritty style like Joe Bonamassa and belts out powerful blues improvisations like Eric Clapton. Combined with his astonishing guitar riffs\, his robust vocals provide a night of captivating music that will transport you to the days past when your life revolved around the radio and the joy it would bring as you gathered with friends and family.
X-ALT-DESC;FMTTYPE=text/html:<h3 id="event_176051" itemprop="name" style="box-sizing: border-box\; font-family: &quot\;Open Sans&quot\;\, Helvetica\, Arial\, Verdana\, sans-serif\; font-weight: bold\; line-height: 1.1\; color: rgb(59\, 59\, 59)\; margin: 0.4em 0.2em\; font-size: 16px\;">Mike Imbasciani &amp\; His BluezRockerz</h3>\n<span class="bold padbot clear" style="box-sizing: border-box\; font-weight: 600\; clear: both\; padding-bottom: 10px\; color: rgb(59\, 59\, 59)\; font-family: Tahoma\, Geneva\, sans-serif\;"><time content="Tue - Oct 13\, 2020 - 7:30pm EDT" itemprop="startDate" style="box-sizing: border-box\;">Tue - Oct 13\, 2020 - 7:30pm EDT</time></span>\n\n<div class="page-right social clear" style="box-sizing: border-box\; clear: none\; float: right\; padding-bottom: 10px\; width: auto\; padding-right: 5px\; color: rgb(59\, 59\, 59)\; font-family: Tahoma\, Geneva\, sans-serif\;">&nbsp\;</div>\n\n<div class="event_display clear" itemprop="description" style="box-sizing: border-box\; clear: both\; color: rgb(59\, 59\, 59)\; font-family: Tahoma\, Geneva\, sans-serif\; min-height: 40px\;">\n<p style="box-sizing: border-box\; margin: 0px 0px 10px\;">Complete Dinner And Show Package Showtime 7:30 PM | Doors Open At 5:00 PM</p>\n\n<p style="box-sizing: border-box\; margin: 0px 0px 10px\;">Your menu for this special event includes our House Salad</p>\n\n<p style="box-sizing: border-box\; margin: 0px 0px 10px\;">Choice Of: 3 Entrees</p>\n\n<p style="box-sizing: border-box\; margin: 0px 0px 10px\;">Coffee &ndash\; Iced Tea &ndash\; Soda</p>\n\n<p style="box-sizing: border-box\; margin: 0px 0px 10px\;">And Dessert!</p>\n\n<p style="box-sizing: border-box\; margin: 0px 0px 10px\;">(Additional Premium Menu Options Will Also Be available)</p>\n\n<p style="box-sizing: border-box\; margin: 0px 0px 10px\;">(Package Price Includes Show Ticket\, Dinner and Server Gratuity will be added at checkout)</p>\n\n<p style="box-sizing: border-box\; margin: 0px 0px 10px\;">Mike Imbasciani is a 23 year old with an old soul who performs blues and blues-based rock\, folk and rockabilly.</p>\n\n<p style="box-sizing: border-box\; margin: 0px 0px 10px\;">He is a guitar prodigy who began playing guitar at age five and at age eleven\, was playing professionally in venues throughout&nbsp\;<span class="caps" style="box-sizing: border-box\;">SWFL</span>. Included among the multiple venues where Mike has performed are BB King&rsquo\;s Blues Club in Nashville and Orlando as well as House Of Blues in Orlando. He has also performed in multiple&nbsp\;<span class="caps" style="box-sizing: border-box\;">SWFL</span>&nbsp\;festivals from Clearwater to Naples since he was thirteen years old. The recent honor of receiving the 2019&nbsp\;<span class="caps" style="box-sizing: border-box\;">SWFL</span>&nbsp\;Blues Society Regional International Blues Challenge &ldquo\;People&rsquo\;s Choice Award&rdquo\; speaks to the huge\, loyal fan base that Mike has amassed over his years of performing and connecting on a personal level with his fans. Mike has a gritty style like Joe Bonamassa and belts out powerful blues improvisations like Eric Clapton. Combined with his astonishing guitar riffs\, his robust vocals provide a night of captivating music that will transport you to the days past when your life revolved around the radio and the joy it would bring as you gathered with friends and family.</p>\n</div>\n
LOCATION:Visani\, 2400 Kings Highway\, Port Charlotte\, FL 33980
UID:e.3611.1130
SEQUENCE:3
DTSTAMP:20260423T232947Z
URL:https://business.charlottecountychamber.org/events/details/mike-imbasciani-his-bluezrockerz-at-visani-1130
END:VEVENT

END:VCALENDAR
