BEGIN:VCALENDAR
VERSION:2.0
PRODID:-//ChamberMaster//Event Calendar 2.0//EN
METHOD:PUBLISH
X-PUBLISHED-TTL:P3D
REFRESH-INTERVAL:P3D
CALSCALE:GREGORIAN
BEGIN:VEVENT
DTSTART:20190813T040000Z
DTEND:20190930T040000Z
X-MICROSOFT-CDO-ALLDAYEVENT:FALSE
SUMMARY:Networking@Noon at Charlotte Memorial Funeral Home 9/11/19
DESCRIPTION:Networking@Noon at Charlotte Memorial Funeral Home 9/11/19
X-ALT-DESC;FMTTYPE=text/html:Networking@Noon at Charlotte Memorial Funeral Home 9/11/19
LOCATION:Charlotte Memorial Funeral Home\, Cemetery and Crematory
UID:e.3611.854
SEQUENCE:3
DTSTAMP:20260425T112424Z
URL:https://business.charlottecountychamber.org/events/details/networking-noon-at-charlotte-memorial-funeral-home-9-11-19-08-13-2019-854
END:VEVENT

END:VCALENDAR
