BEGIN:VCALENDAR
VERSION:2.0
PRODID:-//ChamberMaster//Event Calendar 2.0//EN
METHOD:PUBLISH
X-PUBLISHED-TTL:P3D
REFRESH-INTERVAL:P3D
CALSCALE:GREGORIAN
BEGIN:VEVENT
DTSTART:20191212T050000Z
DTEND:20200124T050000Z
X-MICROSOFT-CDO-ALLDAYEVENT:FALSE
SUMMARY:Networking@Noon at King Fisher Fleet\, January 8\, 2020
DESCRIPTION:Networking@Noon at King Fisher Fleet\, January 8\, 2020
X-ALT-DESC;FMTTYPE=text/html:Networking@Noon at King Fisher Fleet\, January 8\, 2020
LOCATION:King Fisher Fleet
UID:e.3611.867
SEQUENCE:3
DTSTAMP:20260425T011608Z
URL:https://business.charlottecountychamber.org/events/details/networking-noon-at-king-fisher-fleet-january-8-2020-12-12-2019-867
END:VEVENT

END:VCALENDAR
