BEGIN:VCALENDAR
VERSION:2.0
PRODID:-//ChamberMaster//Event Calendar 2.0//EN
METHOD:PUBLISH
X-PUBLISHED-TTL:P3D
REFRESH-INTERVAL:P3D
CALSCALE:GREGORIAN
BEGIN:VEVENT
DTSTART:20010806T040000Z
DTEND:20010809T040000Z
X-MICROSOFT-CDO-ALLDAYEVENT:FALSE
SUMMARY:New Teacher Luncheon
DESCRIPTION:New Teacher Luncheon
X-ALT-DESC;FMTTYPE=text/html:New Teacher Luncheon
LOCATION:Victoria Estates
UID:e.3611.305
SEQUENCE:3
DTSTAMP:20260420T153545Z
URL:https://business.charlottecountychamber.org/events/details/new-teacher-luncheon-08-06-2001-305
END:VEVENT

END:VCALENDAR
