BEGIN:VCALENDAR
VERSION:2.0
PRODID:-//ChamberMaster//Event Calendar 2.0//EN
METHOD:PUBLISH
X-PUBLISHED-TTL:P3D
REFRESH-INTERVAL:P3D
CALSCALE:GREGORIAN
BEGIN:VEVENT
DTSTART:19970909T040000Z
DTEND:19970909T040000Z
X-MICROSOFT-CDO-ALLDAYEVENT:FALSE
SUMMARY:Program Planning Workshop
DESCRIPTION:Program Planning Workshop
X-ALT-DESC;FMTTYPE=text/html:Program Planning Workshop
LOCATION:Board of Realtors Building
UID:e.3611.235
SEQUENCE:3
DTSTAMP:20260423T173835Z
URL:https://business.charlottecountychamber.org/events/details/program-planning-workshop-09-09-1997-235
END:VEVENT

END:VCALENDAR
