BEGIN:VCALENDAR
VERSION:2.0
PRODID:-//ChamberMaster//Event Calendar 2.0//EN
METHOD:PUBLISH
X-PUBLISHED-TTL:P3D
REFRESH-INTERVAL:P3D
CALSCALE:GREGORIAN
BEGIN:VEVENT
DTSTART:20220312T130000Z
DTEND:20220312T160000Z
X-MICROSOFT-CDO-ALLDAYEVENT:FALSE
SUMMARY:Project Detect Feet Across Riverwood 5K Run/Walk
DESCRIPTION:Soak Up the Florida Sunshine and Enjoy a 5K Run/Walk in the Beautiful Riverwood Golf Community on Saturday March 12\, 2022 at this Dog- and Stroller-Friendly\, Fund Raising Event in Support of Project Detect.\n\nAll funds raised go to the Virginia B. Andes Volunteer Community Clinic in Port Charlotte and the Englewood Community Care Clinic\, along with other Port Charlotte facilities that could qualify for funding based on the charity's mission.
X-ALT-DESC;FMTTYPE=text/html:<strong>Soak Up the Florida Sunshine and Enjoy a 5K Run/Walk in the Beautiful Riverwood Golf Community on Saturday March 12\, 2022 at this Dog- and Stroller-Friendly\, Fund Raising Event in Support of Project Detect.<br />\nAll funds raised go to the Virginia B. Andes Volunteer Community Clinic in Port Charlotte and the Englewood Community Care Clinic\, along with other Port Charlotte facilities that could qualify for funding based on the charity&#39\;s mission.</strong>
LOCATION:Riverwood Community\, 4100 Riverwood Drive\, Port Charlotte\, FL 33953
UID:e.3611.2557
SEQUENCE:3
DTSTAMP:20260421T043355Z
URL:https://business.charlottecountychamber.org/events/details/project-detect-feet-across-riverwood-5k-run-walk-2557
END:VEVENT

END:VCALENDAR
