BEGIN:VCALENDAR
VERSION:2.0
PRODID:-//ChamberMaster//Event Calendar 2.0//EN
METHOD:PUBLISH
X-PUBLISHED-TTL:P3D
REFRESH-INTERVAL:P3D
CALSCALE:GREGORIAN
BEGIN:VEVENT
DTSTART:20220322T170000Z
DTEND:20220322T190000Z
X-MICROSOFT-CDO-ALLDAYEVENT:FALSE
SUMMARY:PUNTA GORDA GARDEN CLUB TO HOST FLOWER SHOW
DESCRIPTION:Tuesday\, March 22\, 2022\, 1-3 pm\, Isles Yacht Club\, 1780 W. Marion Ave\, Punta Gorda. A Standard Flower Show titled "Those Were the Days" featuring fabulous\, original floral designs\, a lush variety of horticulture grown by club members\, botanical arts and crafts\, and educational exhibits. Admission is free\, open to the public. Enjoy a lovely afternoon of beauty.
X-ALT-DESC;FMTTYPE=text/html:<span style="color:#26282A\;"><span style="font-family:helvetica\,sans-serif\;">Tuesday\, March 22\, 2022\, 1-3 pm\, Isles Yacht Club\, 1780 W. Marion Ave\, Punta Gorda. A Standard Flower Show titled &ldquo\;Those Were the Days&rdquo\; featuring fabulous\, original floral designs\, a lush variety of horticulture grown by club members\, botanical arts and crafts\, and educational exhibits. Admission is free\, open to the public. Enjoy a lovely afternoon of beauty.</span></span><br />\n&nbsp\;
LOCATION:Isles Yacht Club\, 1780 W. Marion Ave\, Punta Gorda
UID:e.3611.2858
SEQUENCE:3
DTSTAMP:20260420T222914Z
URL:https://business.charlottecountychamber.org/events/details/punta-gorda-garden-club-to-host-flower-show-2858
END:VEVENT

END:VCALENDAR
