BEGIN:VCALENDAR
VERSION:2.0
PRODID:-//ChamberMaster//Event Calendar 2.0//EN
METHOD:PUBLISH
X-PUBLISHED-TTL:P3D
REFRESH-INTERVAL:P3D
CALSCALE:GREGORIAN
BEGIN:VEVENT
DTSTART:19970521T040000Z
DTEND:19970521T040000Z
X-MICROSOFT-CDO-ALLDAYEVENT:FALSE
SUMMARY:Shop Charlotte Consumer Expo 5/21/97
DESCRIPTION:Shop Charlotte Consumer Expo 5/21/97
X-ALT-DESC;FMTTYPE=text/html:Shop Charlotte Consumer Expo 5/21/97
LOCATION:Port Charlotte Cultural Centerl
UID:e.3611.231
SEQUENCE:3
DTSTAMP:20260423T231230Z
URL:https://business.charlottecountychamber.org/events/details/shop-charlotte-consumer-expo-5-21-97-05-21-1997-231
END:VEVENT

END:VCALENDAR
