BEGIN:VCALENDAR
VERSION:2.0
PRODID:-//ChamberMaster//Event Calendar 2.0//EN
METHOD:PUBLISH
X-PUBLISHED-TTL:P3D
REFRESH-INTERVAL:P3D
CALSCALE:GREGORIAN
BEGIN:VEVENT
DTSTART:20020321T050000Z
DTEND:20020512T040000Z
X-MICROSOFT-CDO-ALLDAYEVENT:FALSE
SUMMARY:Stephen Edwards Seminar
DESCRIPTION:Stephen Edwards Seminar
X-ALT-DESC;FMTTYPE=text/html:Stephen Edwards Seminar
LOCATION:
UID:e.3611.298
SEQUENCE:3
DTSTAMP:20260420T005524Z
URL:https://business.charlottecountychamber.org/events/details/stephen-edwards-seminar-03-21-2002-298
END:VEVENT

END:VCALENDAR
