BEGIN:VCALENDAR
VERSION:2.0
PRODID:-//ChamberMaster//Event Calendar 2.0//EN
METHOD:PUBLISH
X-PUBLISHED-TTL:P3D
REFRESH-INTERVAL:P3D
CALSCALE:GREGORIAN
BEGIN:VEVENT
DTSTART:20190501T040000Z
DTEND:20190615T040000Z
X-MICROSOFT-CDO-ALLDAYEVENT:FALSE
SUMMARY:Summer Success Lunch & Learn - Toastmasters -June 03\, 2019 - Speaker Dennis Kunkler
DESCRIPTION:Summer Success Lunch & Learn - Toastmasters -June 03\, 2019  - Speaker Dennis Kunkler
X-ALT-DESC;FMTTYPE=text/html:Summer Success Lunch & Learn - Toastmasters -June 03\, 2019  - Speaker Dennis Kunkler
LOCATION:The Board of Realtors Building
UID:e.3611.841
SEQUENCE:3
DTSTAMP:20260425T164518Z
URL:https://business.charlottecountychamber.org/events/details/summer-success-lunch-learn-toastmasters-june-03-2019-speaker-dennis-kunkler-05-01-2019-841
END:VEVENT

END:VCALENDAR
