BEGIN:VCALENDAR
VERSION:2.0
PRODID:-//ChamberMaster//Event Calendar 2.0//EN
METHOD:PUBLISH
X-PUBLISHED-TTL:P3D
REFRESH-INTERVAL:P3D
CALSCALE:GREGORIAN
BEGIN:VEVENT
DTSTART:20220317T130000Z
DTEND:20220317T150000Z
X-MICROSOFT-CDO-ALLDAYEVENT:FALSE
SUMMARY:The Art of Presiding-Charlotte County Parliamentarians Unit
DESCRIPTION:Charlotte County Parliamentarians Unit presents "The Art of Presiding" for five Thursdays\, March 17-April 14\, 2022\, at the Punta Gorda Isles Civic Association building\, 2001 Shreve St.\, Punta Gorda. It helps officers and those who lead meetings become proficient in running fair and efficient meetings. During the course adult students will receive extensive practice on presiding in a safe and supportive environment. Registration for $40 is through the PGICA (pgica.org) or call 941-637-1655. Deadline is March 11. For more information\, call Joyce Gleason at 941-637-5921 or joyglee16@gmail.com.
X-ALT-DESC;FMTTYPE=text/html:<span style="font-family:arial\,sans-serif\;"><span style="font-size:10.0pt\;">Charlotte County Parliamentarians Unit presents &quot\;The Art of Presiding&quot\; for five Thursdays\, March 17-April 14\, 2022\, at the Punta Gorda Isles Civic Association building\, 2001 Shreve St.\, Punta Gorda. It helps officers and those who lead meetings become proficient in running fair and efficient meetings. During the course adult students will receive extensive practice on presiding in a safe and supportive environment. Registration for $40 is through the PGICA (pgica.org) or call 941-637-1655. Deadline is March 11. For more information\, call Joyce Gleason at 941-637-5921 or <a href="mailto:joyglee16@gmail.com">joyglee16@gmail.com</a>.</span></span>
LOCATION:Punta Gorda isles Civic Association 2001 Shreve St. Punta Gorda\, FL 33950
UID:e.3611.2856
SEQUENCE:3
DTSTAMP:20260420T223516Z
URL:https://business.charlottecountychamber.org/events/details/the-art-of-presiding-charlotte-county-parliamentarians-unit-2856
END:VEVENT

END:VCALENDAR
