BEGIN:VCALENDAR
VERSION:2.0
PRODID:-//ChamberMaster//Event Calendar 2.0//EN
METHOD:PUBLISH
X-PUBLISHED-TTL:P3D
REFRESH-INTERVAL:P3D
CALSCALE:GREGORIAN
BEGIN:VEVENT
DTSTART:20220319T170000Z
DTEND:20220319T180000Z
X-MICROSOFT-CDO-ALLDAYEVENT:FALSE
SUMMARY:Weekly Documentary (incl. with paid admission) VIETNAM ON THE FRONTLINES-PART 2: TET IN SAIGON AND HUE
DESCRIPTION:(Part 2 of a 4-part retrospective of the turning points of the Vietnam War as remembered by the soldier's who fought and by the CBS news personnel who covered it.)                                                                   \n\n\n\nIn January 1968\, during the Tet holiday cease-fire\, the North Vietnamese and Viet Cong attacked over one hundred cities and bases in South Vietnam. The bloodiest battle\, near the ancient capital of Hue\, inflicted a fifty percent U.S. Marine casualty rate. Also covers the Battle for the Citadel.
X-ALT-DESC;FMTTYPE=text/html:<span style="font-family:book antiqua\,serif"><span style="font-size:10.0pt">(</span></span><em><span style="font-family:arial nova\,sans-serif"><span style="font-size:10.0pt">Part 2 of a 4-part retrospective of the turning points of the Vietnam War as remembered by the soldier&rsquo\;s who fought and by the CBS news personnel who covered it.)</span></span></em> &nbsp\;&nbsp\;&nbsp\;&nbsp\;&nbsp\;&nbsp\;&nbsp\;&nbsp\;&nbsp\;&nbsp\;&nbsp\;&nbsp\;&nbsp\;&nbsp\;&nbsp\;&nbsp\;&nbsp\;&nbsp\;&nbsp\;&nbsp\;&nbsp\;&nbsp\;&nbsp\;&nbsp\;&nbsp\;&nbsp\;&nbsp\;&nbsp\;&nbsp\;&nbsp\;&nbsp\;&nbsp\;&nbsp\;&nbsp\;&nbsp\;&nbsp\;&nbsp\;&nbsp\;&nbsp\;&nbsp\;&nbsp\;&nbsp\;&nbsp\;&nbsp\;&nbsp\;&nbsp\;&nbsp\;&nbsp\;&nbsp\;&nbsp\;&nbsp\;&nbsp\;&nbsp\;&nbsp\;&nbsp\;&nbsp\;&nbsp\;&nbsp\;&nbsp\;&nbsp\;&nbsp\;&nbsp\;&nbsp\;&nbsp\;&nbsp\;&nbsp\;<br />\n<br />\n<span style="font-family:arial nova\,sans-serif">In January 1968\, during the Tet holiday cease-fire\, the North Vietnamese and Viet Cong attacked over one hundred cities and bases in South Vietnam. The bloodiest battle\, near the ancient capital of Hue\, inflicted a fifty percent U.S. Marine casualty rate. Also covers the Battle for the Citadel.</span><br />\n&nbsp\;
LOCATION:
UID:e.3611.2633
SEQUENCE:3
DTSTAMP:20260420T223030Z
URL:https://business.charlottecountychamber.org/events/details/weekly-documentary-incl-with-paid-admission-vietnam-on-the-frontlines-part-2-tet-in-saigon-and-hue-03-19-2022-2633
END:VEVENT

END:VCALENDAR
